BEGIN:VCALENDAR
VERSION:2.0
PRODID:-//eventon.com NONSGML v1.0//EN
CALSCALE:GREGORIAN
METHOD:PUBLISH
BEGIN:VEVENT
UID:69e99848e132a
DTSTAMP:20260423T035552Z
DTSTART:20230309T090000Z
DTEND:20230310T160000Z
LOCATION:
SUMMARY:Les emplois en Seine
DESCRIPTION:19e édition du principal salon de recrutement en Normandie : 2
 00 employeurs en face-à-face proposent un panel de 300 métiers. De la for
 mation en alternance au premier emploi en passant par les missions d'intér
 im\,  peu importe l'âge\,  le diplôme ou le niveau d'expérience... il y 
 a forcément LA solution pour[..]\nhttps://jobradio.fr/events/les-emplois-e
 n-seine/
URL:https://jobradio.fr/events/les-emplois-en-seine/
END:VEVENT
END:VCALENDAR