BEGIN:VCALENDAR
VERSION:2.0
PRODID:-//eventon.com NONSGML v1.0//EN
CALSCALE:GREGORIAN
METHOD:PUBLISH
BEGIN:VEVENT
UID:69ec08f3eccc8
DTSTAMP:20260425T002107Z
DTSTART:20230418T070000Z
DTEND:20230419T150000Z
LOCATION:
SUMMARY:Forum de l'alternance
DESCRIPTION:Nouvelle édition du Forum de l’alternance. La Cité des scie
 nces et de l’industrie accueille recruteurs\,  centres de formation\,  or
 ganismes de conseil à l’orientation et à l’emploi pour... 10.000 cont
 rats en alternance proposés aux visiteurs. Les jeunes auront le choix entr
 e&nbsp;5 espaces&nbsp;:&nbsp;orientation&nbsp;(conseils et aides à la réd
 action de CV ou préparation[..]\nhttps://jobradio.fr/events/forum-de-lalte
 rnance/
URL:https://jobradio.fr/events/forum-de-lalternance/
END:VEVENT
END:VCALENDAR