BEGIN:VCALENDAR
VERSION:2.0
PRODID:-//eventon.com NONSGML v1.0//EN
CALSCALE:GREGORIAN
METHOD:PUBLISH
BEGIN:VEVENT
UID:69e54fea8daad
DTSTAMP:20260419T215802Z
DTSTART:20230531T150000Z
DTEND:20230531T183000Z
LOCATION:
SUMMARY:Job Dating Zeno France
DESCRIPTION:Cette première édition est ouverte à tous les étudiants et 
 jeunes diplômés issus d’écoles de communication\,  de commerce ou de s
 ciences politiques (mais pas que)\,  désireux de découvrir le métier de 
 consultant spécialisé en relations presse\,  communication corporate\,  c
 ommunication digitale\,  influence ou création de contenus éditoriaux\,  
 dans des secteurs d’activités[..]\nhttps://jobradio.fr/events/job-dating
 -zeno-france/
URL:https://jobradio.fr/events/job-dating-zeno-france/
END:VEVENT
END:VCALENDAR