BEGIN:VCALENDAR
VERSION:2.0
PRODID:-//eventon.com NONSGML v1.0//EN
CALSCALE:GREGORIAN
METHOD:PUBLISH
BEGIN:VEVENT
UID:69e576965cf30
DTSTAMP:20260420T004302Z
DTSTART:20240424T070000Z
DTEND:20240425T160000Z
LOCATION:
SUMMARY:Salon Jeunes dâ€™avenirs Paris 2024
DESCRIPTION:"Jeunes dâ€™Avenirs" est un Ã©vÃ©nement visant Ã  soutenir les 
 jeunes de 16 Ã  25 ans peu ou pas diplÃ´mÃ©s\,  en proposant un pÃ´le dâ€™i
 nformation sur les emplois dâ€™avenir\,  les contrats de gÃ©nÃ©ration et lâ
 €™alternance\,  avec des offres dâ€™emploi de divers recruteurs. Lâ€™Ã©vÃ©n
 ement comprend cinq grands espaces offrant des conseils personnalisÃ©s\, [.
 .]\nhttps://jobradio.fr/events/salon-jeunes-davenirs-paris-2024/
URL:https://jobradio.fr/events/salon-jeunes-davenirs-paris-2024/
END:VEVENT
END:VCALENDAR